BEGIN:VCALENDAR
VERSION:2.0
PRODID:-//hacksw/handcal//NONSGML v1.0//EN
BEGIN:VEVENT
SUMMARY:Soiree CAA 1
UID:b565a20d-c793-4425-9da1-9cbe2ea0f2c8
DTSTART:20260505T220000Z
DTEND:20260506T220000Z
LOCATION:Localisation   
CATEGORIES:Administratif
STATUS:
URL;VALUE=URI:https://www.calriom.com/evenements/2026/05/06/soiree-caa-1-2443469
END:VEVENT
END:VCALENDAR
