BEGIN:VCALENDAR
VERSION:2.0
PRODID:-//hacksw/handcal//NONSGML v1.0//EN
BEGIN:VEVENT
SUMMARY:1er tour des interclubs
UID:5ca6f102-c562-4dac-8e7e-30cd8ec21c25
DTSTART:20260502T220000Z
DTEND:20260503T220000Z
LOCATION:Localisation Stade Hector Rolland 03000 Moulins
CATEGORIES:Administratif
STATUS:
URL;VALUE=URI:https://www.calriom.com/evenements/2026/05/03/1er-tour-des-interclubs-2444171
END:VEVENT
END:VCALENDAR
