BEGIN:VCALENDAR
VERSION:2.0
PRODID:-//hacksw/handcal//NONSGML v1.0//EN
BEGIN:VEVENT
SUMMARY:Meeting (cadets) et Triatlon Benjamins/Minimes Vichy (26/04/2026)
UID:44f200a9-e869-42b3-9110-c5ebc36c4488
DTSTART:20260426T080000Z
DTEND:20260426T150000Z
LOCATION:Localisation   
CATEGORIES:Manifestation
STATUS:
URL;VALUE=URI:https://www.calriom.com/evenements/2026/04/26/meeting-cadets-et-triatlon-benjaminsminimes-vichy-26042026-2443462
END:VEVENT
END:VCALENDAR
