BEGIN:VCALENDAR
VERSION:2.0
PRODID:-//hacksw/handcal//NONSGML v1.0//EN
BEGIN:VEVENT
SUMMARY:Triatlon Benjamins/Minimes Vichy (13/05/2026)
UID:f57e96ee-8e0e-4ed4-9560-dc468da7f85b
DTSTART:20260419T220000Z
DTEND:20260420T220000Z
LOCATION:Localisation   
CATEGORIES:Manifestation
STATUS:
URL;VALUE=URI:https://www.calriom.com/evenements/2026/04/20/triatlon-benjaminsminimes-vichy-13052026-2443464
END:VEVENT
END:VCALENDAR
